BEGIN:VCALENDAR
VERSION:2.0
PRODID:-//TYPO3/NONSGML Calendarize//EN
BEGIN:VEVENT
UID:calendarize-10-kidical-mass
DTSTAMP:20260424T113426Z
DTSTART:20260509T083000Z
DTEND:20260509T110000Z
SUMMARY:10. Kidical Mass am 9. Mai 2026
DESCRIPTION:Am Samstag\, den 9. Mai 2026\, ab 10:30 Uhr treffen wir uns i
 n der Frohsinnstraße in Aschaffenburg um unsere Fahrräder für die näch
 ste Kidical Mass zu schmücken. Die Abfahrt dieser bunten\, familienfreun
 dlichen Fahrraddemo für kinder- und fahrradgerechte Straßen. ist um ca. 
 11:15 Uhr.\nMit bundesweiten Fahrraddemos demonstrieren Kinder vom 1. bis 
 10. Mai 2026 dafür\, dass sie sicher zu Fuß gehen oder mit dem Rad fahre
 n können. Trotz der Verbesserungen in der StVO werden Maßnahmen zur Verk
 ehrssicherheit viel zu zögerlich umgesetzt. Bei den Kindern ist de facto 
 noch nichts angekommen\, trotz aller guten Absichten.\nDie Kidical Mass is
 t Teil der bundesweiten Aktionstage\,  in über 200 Städten und Gemeinde
 n stattfinden. In ganz Deutschland gehen tausende Menschen auf die Straße
 \, um eine kindgerechte Verkehrswende einzufordern – getragen von einem 
 breiten Bündnis aus Verbänden\, Initiativen und engagierten Bürger*inne
 n. Die Bewegung wächst von Jahr zu Jahr und zeigt eindrucksvoll: Sichere 
 Mobilität für Kinder ist ein Thema\, das überall Menschen bewegt.\nZiel
  und Abschlussaktion ist dieses Mal im Schöntal auf dem Inklusionsfest.
X-ALT-DESC;FMTTYPE=text/html:<p>Am <strong>Samstag\, den 9. Mai 2026\, ab 
 10:30 Uhr treffen wir uns&nbsp\;</strong>in der Frohsinnstraße in Aschaff
 enburg um unsere Fahrräder für die nächste Kidical Mass zu schmücken. 
 Die Abfahrt dieser&nbsp\;bunten\, familienfreundlichen Fahrraddemo für ki
 nder- und fahrradgerechte Straßen. ist um ca. 11:15 Uhr.</p>\n<p><strong>
 Mit bundesweiten Fahrraddemos demonstrieren Kinder vom 1. bis 10. Mai 2026
  dafür\, dass sie sicher zu Fuß gehen oder mit dem Rad fahren können. T
 rotz der Verbesserungen in der StVO werden Maßnahmen zur Verkehrssicherhe
 it viel zu zögerlich umgesetzt. Bei den Kindern ist de facto noch nichts 
 angekommen\, trotz aller guten Absichten.</strong></p>\n<p>Die Kidical Mas
 s ist Teil der bundesweiten Aktionstage\,&nbsp\; in über 200 Städten und
  Gemeinden stattfinden. In ganz Deutschland gehen tausende Menschen auf di
 e Straße\, um eine kindgerechte Verkehrswende einzufordern – getragen v
 on einem breiten Bündnis aus Verbänden\, Initiativen und engagierten Bü
 rger*innen. Die Bewegung wächst von Jahr zu Jahr und zeigt eindrucksvoll:
  Sichere Mobilität für Kinder ist ein Thema\, das überall Menschen bewe
 gt.</p>\n<p>Ziel und Abschlussaktion ist dieses Mal im Schöntal auf dem I
 nklusionsfest.</p>
LOCATION:Frohsinnstraße\, Aschaffenburg
END:VEVENT
END:VCALENDAR
