BEGIN:VCALENDAR
VERSION:2.0
PRODID:-//TYPO3/NONSGML Calendarize//EN
BEGIN:VEVENT
UID:calendarize-familienradtour-am-3-mai
DTSTAMP:20260424T113745Z
DTSTART:20260503T090000Z
DTEND:20260503T130000Z
SUMMARY:Familienradtour am 3. Mai
DESCRIPTION:Wir fahren zu Spiel- und Picknickplätzen in der näheren Umge
 bung. Dabei nehmen wir sichere Strecken.\nDas Ziel wird direkt vor Abfahrt
  bekannt gegeben\, so dass es einen steten Überraschungscharakter hat.\nh
 ttps://touren-termine.adfc.de/radveranstaltung/194777-familientour-
X-ALT-DESC;FMTTYPE=text/html:<p>Wir fahren zu Spiel- und Picknickplätzen 
 in der näheren Umgebung. Dabei nehmen wir sichere Strecken.</p>\n<p>Das Z
 iel wird direkt vor Abfahrt bekannt gegeben\, so dass es einen steten Übe
 rraschungscharakter hat.</p>\n<p><a href="https://touren-termine.adfc.de/r
 adveranstaltung/194777-familientour-">https://touren-termine.adfc.de/radve
 ranstaltung/194777-familientour-</a></p>
LOCATION:
END:VEVENT
END:VCALENDAR
